BEGIN:VCALENDAR
VERSION:2.0
PRODID:icalendar-ruby
CALSCALE:GREGORIAN
METHOD:PUBLISH
BEGIN:VEVENT
DTSTAMP:20260423T035451Z
UID:12-994317@memorialbaptistrossville.com
DTSTART:20261021T224500Z
DTEND:20261022T000000Z
CLASS:PUBLIC
CREATED:20260422T221947
DESCRIPTION:Bring your children to be a part of the Awana Clubs. Classes fo
 r 3 years old - 6th Grade.
LAST-MODIFIED:20260422T221947
LOCATION:Memorial Baptist Rossville
SUMMARY:AWANA Clubs
URL;VALUE=URI:https://www.memorialbaptistrossville.com/events/awana-clubs/2
 026-10-21
ATTACH;FILENAME=IMG_0653.jpeg;FMTTYPE=image/jpeg:https://dq5pwpg1q8ru0.clou
 dfront.net/2025/01/21/21/10/21/baa79408-cd6a-41e4-9dd5-e6c357a98edc/IMG_06
 53.jpeg
END:VEVENT
END:VCALENDAR
